BEGIN:VCALENDAR
VERSION:2.0
PRODID:-//5.182.248.186//NONSGML kigkonsult.se iCalcreator 2.20//
CALSCALE:GREGORIAN
METHOD:PUBLISH
X-WR-TIMEZONE:Europe/Zurich
BEGIN:VEVENT
UID:event205@Tanzen international Luzern TiL
DTSTAMP:20260420T082946Z
CATEGORIES:Tanzabend
DESCRIPTION:Kein Tanzen (Osterferien bis 19.4.)\nKategorie: Tanzabend\nICS-
 Link: https://tanzenluzern.ch/index.php?option=com_jem&view=event&id=205:k
 ein-tanzen-schulferien&Itemid=2115\n
DTSTART;VALUE=DATE:20260403
DTEND;VALUE=DATE:20260420
LOCATION:Mariahilf-Turnhalle\,Mariahilfgasse\,6000 Luzern\,Switzerland
SUMMARY:Kein Tanzen (Osterferien bis 19.4.)
URL:https://tanzenluzern.ch/index.php?option=com_jem&view=event&id=205:kein
 -tanzen-schulferien&Itemid=2115
END:VEVENT
BEGIN:VEVENT
UID:event205@Tanzen international Luzern TiL
DTSTAMP:20260420T082946Z
CATEGORIES:Tanzabend
DESCRIPTION:Kein Tanzen (Osterferien bis 19.4.)\nKategorie: Tanzabend\nICS-
 Link: https://tanzenluzern.ch/index.php?option=com_jem&view=event&id=205:k
 ein-tanzen-schulferien&Itemid=2115\n
DTSTART;VALUE=DATE:20260404
DTEND;VALUE=DATE:20260420
LOCATION:Mariahilf-Turnhalle\,Mariahilfgasse\,6000 Luzern\,Switzerland
SUMMARY:Kein Tanzen (Osterferien bis 19.4.)
URL:https://tanzenluzern.ch/index.php?option=com_jem&view=event&id=205:kein
 -tanzen-schulferien&Itemid=2115
END:VEVENT
BEGIN:VEVENT
UID:event205@Tanzen international Luzern TiL
DTSTAMP:20260420T082946Z
CATEGORIES:Tanzabend
DESCRIPTION:Kein Tanzen (Osterferien bis 19.4.)\nKategorie: Tanzabend\nICS-
 Link: https://tanzenluzern.ch/index.php?option=com_jem&view=event&id=205:k
 ein-tanzen-schulferien&Itemid=2115\n
DTSTART;VALUE=DATE:20260405
DTEND;VALUE=DATE:20260420
LOCATION:Mariahilf-Turnhalle\,Mariahilfgasse\,6000 Luzern\,Switzerland
SUMMARY:Kein Tanzen (Osterferien bis 19.4.)
URL:https://tanzenluzern.ch/index.php?option=com_jem&view=event&id=205:kein
 -tanzen-schulferien&Itemid=2115
END:VEVENT
BEGIN:VEVENT
UID:event205@Tanzen international Luzern TiL
DTSTAMP:20260420T082946Z
CATEGORIES:Tanzabend
DESCRIPTION:Kein Tanzen (Osterferien bis 19.4.)\nKategorie: Tanzabend\nICS-
 Link: https://tanzenluzern.ch/index.php?option=com_jem&view=event&id=205:k
 ein-tanzen-schulferien&Itemid=2115\n
DTSTART;VALUE=DATE:20260406
DTEND;VALUE=DATE:20260420
LOCATION:Mariahilf-Turnhalle\,Mariahilfgasse\,6000 Luzern\,Switzerland
SUMMARY:Kein Tanzen (Osterferien bis 19.4.)
URL:https://tanzenluzern.ch/index.php?option=com_jem&view=event&id=205:kein
 -tanzen-schulferien&Itemid=2115
END:VEVENT
BEGIN:VEVENT
UID:event205@Tanzen international Luzern TiL
DTSTAMP:20260420T082946Z
CATEGORIES:Tanzabend
DESCRIPTION:Kein Tanzen (Osterferien bis 19.4.)\nKategorie: Tanzabend\nICS-
 Link: https://tanzenluzern.ch/index.php?option=com_jem&view=event&id=205:k
 ein-tanzen-schulferien&Itemid=2115\n
DTSTART;VALUE=DATE:20260407
DTEND;VALUE=DATE:20260420
LOCATION:Mariahilf-Turnhalle\,Mariahilfgasse\,6000 Luzern\,Switzerland
SUMMARY:Kein Tanzen (Osterferien bis 19.4.)
URL:https://tanzenluzern.ch/index.php?option=com_jem&view=event&id=205:kein
 -tanzen-schulferien&Itemid=2115
END:VEVENT
BEGIN:VEVENT
UID:event205@Tanzen international Luzern TiL
DTSTAMP:20260420T082946Z
CATEGORIES:Tanzabend
DESCRIPTION:Kein Tanzen (Osterferien bis 19.4.)\nKategorie: Tanzabend\nICS-
 Link: https://tanzenluzern.ch/index.php?option=com_jem&view=event&id=205:k
 ein-tanzen-schulferien&Itemid=2115\n
DTSTART;VALUE=DATE:20260408
DTEND;VALUE=DATE:20260420
LOCATION:Mariahilf-Turnhalle\,Mariahilfgasse\,6000 Luzern\,Switzerland
SUMMARY:Kein Tanzen (Osterferien bis 19.4.)
URL:https://tanzenluzern.ch/index.php?option=com_jem&view=event&id=205:kein
 -tanzen-schulferien&Itemid=2115
END:VEVENT
BEGIN:VEVENT
UID:event205@Tanzen international Luzern TiL
DTSTAMP:20260420T082946Z
CATEGORIES:Tanzabend
DESCRIPTION:Kein Tanzen (Osterferien bis 19.4.)\nKategorie: Tanzabend\nICS-
 Link: https://tanzenluzern.ch/index.php?option=com_jem&view=event&id=205:k
 ein-tanzen-schulferien&Itemid=2115\n
DTSTART;VALUE=DATE:20260409
DTEND;VALUE=DATE:20260420
LOCATION:Mariahilf-Turnhalle\,Mariahilfgasse\,6000 Luzern\,Switzerland
SUMMARY:Kein Tanzen (Osterferien bis 19.4.)
URL:https://tanzenluzern.ch/index.php?option=com_jem&view=event&id=205:kein
 -tanzen-schulferien&Itemid=2115
END:VEVENT
BEGIN:VEVENT
UID:event205@Tanzen international Luzern TiL
DTSTAMP:20260420T082946Z
CATEGORIES:Tanzabend
DESCRIPTION:Kein Tanzen (Osterferien bis 19.4.)\nKategorie: Tanzabend\nICS-
 Link: https://tanzenluzern.ch/index.php?option=com_jem&view=event&id=205:k
 ein-tanzen-schulferien&Itemid=2115\n
DTSTART;VALUE=DATE:20260410
DTEND;VALUE=DATE:20260420
LOCATION:Mariahilf-Turnhalle\,Mariahilfgasse\,6000 Luzern\,Switzerland
SUMMARY:Kein Tanzen (Osterferien bis 19.4.)
URL:https://tanzenluzern.ch/index.php?option=com_jem&view=event&id=205:kein
 -tanzen-schulferien&Itemid=2115
END:VEVENT
BEGIN:VEVENT
UID:event205@Tanzen international Luzern TiL
DTSTAMP:20260420T082946Z
CATEGORIES:Tanzabend
DESCRIPTION:Kein Tanzen (Osterferien bis 19.4.)\nKategorie: Tanzabend\nICS-
 Link: https://tanzenluzern.ch/index.php?option=com_jem&view=event&id=205:k
 ein-tanzen-schulferien&Itemid=2115\n
DTSTART;VALUE=DATE:20260411
DTEND;VALUE=DATE:20260420
LOCATION:Mariahilf-Turnhalle\,Mariahilfgasse\,6000 Luzern\,Switzerland
SUMMARY:Kein Tanzen (Osterferien bis 19.4.)
URL:https://tanzenluzern.ch/index.php?option=com_jem&view=event&id=205:kein
 -tanzen-schulferien&Itemid=2115
END:VEVENT
BEGIN:VEVENT
UID:event205@Tanzen international Luzern TiL
DTSTAMP:20260420T082946Z
CATEGORIES:Tanzabend
DESCRIPTION:Kein Tanzen (Osterferien bis 19.4.)\nKategorie: Tanzabend\nICS-
 Link: https://tanzenluzern.ch/index.php?option=com_jem&view=event&id=205:k
 ein-tanzen-schulferien&Itemid=2115\n
DTSTART;VALUE=DATE:20260412
DTEND;VALUE=DATE:20260420
LOCATION:Mariahilf-Turnhalle\,Mariahilfgasse\,6000 Luzern\,Switzerland
SUMMARY:Kein Tanzen (Osterferien bis 19.4.)
URL:https://tanzenluzern.ch/index.php?option=com_jem&view=event&id=205:kein
 -tanzen-schulferien&Itemid=2115
END:VEVENT
BEGIN:VEVENT
UID:event205@Tanzen international Luzern TiL
DTSTAMP:20260420T082946Z
CATEGORIES:Tanzabend
DESCRIPTION:Kein Tanzen (Osterferien bis 19.4.)\nKategorie: Tanzabend\nICS-
 Link: https://tanzenluzern.ch/index.php?option=com_jem&view=event&id=205:k
 ein-tanzen-schulferien&Itemid=2115\n
DTSTART;VALUE=DATE:20260413
DTEND;VALUE=DATE:20260420
LOCATION:Mariahilf-Turnhalle\,Mariahilfgasse\,6000 Luzern\,Switzerland
SUMMARY:Kein Tanzen (Osterferien bis 19.4.)
URL:https://tanzenluzern.ch/index.php?option=com_jem&view=event&id=205:kein
 -tanzen-schulferien&Itemid=2115
END:VEVENT
BEGIN:VEVENT
UID:event205@Tanzen international Luzern TiL
DTSTAMP:20260420T082946Z
CATEGORIES:Tanzabend
DESCRIPTION:Kein Tanzen (Osterferien bis 19.4.)\nKategorie: Tanzabend\nICS-
 Link: https://tanzenluzern.ch/index.php?option=com_jem&view=event&id=205:k
 ein-tanzen-schulferien&Itemid=2115\n
DTSTART;VALUE=DATE:20260414
DTEND;VALUE=DATE:20260420
LOCATION:Mariahilf-Turnhalle\,Mariahilfgasse\,6000 Luzern\,Switzerland
SUMMARY:Kein Tanzen (Osterferien bis 19.4.)
URL:https://tanzenluzern.ch/index.php?option=com_jem&view=event&id=205:kein
 -tanzen-schulferien&Itemid=2115
END:VEVENT
BEGIN:VEVENT
UID:event205@Tanzen international Luzern TiL
DTSTAMP:20260420T082946Z
CATEGORIES:Tanzabend
DESCRIPTION:Kein Tanzen (Osterferien bis 19.4.)\nKategorie: Tanzabend\nICS-
 Link: https://tanzenluzern.ch/index.php?option=com_jem&view=event&id=205:k
 ein-tanzen-schulferien&Itemid=2115\n
DTSTART;VALUE=DATE:20260415
DTEND;VALUE=DATE:20260420
LOCATION:Mariahilf-Turnhalle\,Mariahilfgasse\,6000 Luzern\,Switzerland
SUMMARY:Kein Tanzen (Osterferien bis 19.4.)
URL:https://tanzenluzern.ch/index.php?option=com_jem&view=event&id=205:kein
 -tanzen-schulferien&Itemid=2115
END:VEVENT
BEGIN:VEVENT
UID:event205@Tanzen international Luzern TiL
DTSTAMP:20260420T082946Z
CATEGORIES:Tanzabend
DESCRIPTION:Kein Tanzen (Osterferien bis 19.4.)\nKategorie: Tanzabend\nICS-
 Link: https://tanzenluzern.ch/index.php?option=com_jem&view=event&id=205:k
 ein-tanzen-schulferien&Itemid=2115\n
DTSTART;VALUE=DATE:20260416
DTEND;VALUE=DATE:20260420
LOCATION:Mariahilf-Turnhalle\,Mariahilfgasse\,6000 Luzern\,Switzerland
SUMMARY:Kein Tanzen (Osterferien bis 19.4.)
URL:https://tanzenluzern.ch/index.php?option=com_jem&view=event&id=205:kein
 -tanzen-schulferien&Itemid=2115
END:VEVENT
BEGIN:VEVENT
UID:event205@Tanzen international Luzern TiL
DTSTAMP:20260420T082946Z
CATEGORIES:Tanzabend
DESCRIPTION:Kein Tanzen (Osterferien bis 19.4.)\nKategorie: Tanzabend\nICS-
 Link: https://tanzenluzern.ch/index.php?option=com_jem&view=event&id=205:k
 ein-tanzen-schulferien&Itemid=2115\n
DTSTART;VALUE=DATE:20260417
DTEND;VALUE=DATE:20260420
LOCATION:Mariahilf-Turnhalle\,Mariahilfgasse\,6000 Luzern\,Switzerland
SUMMARY:Kein Tanzen (Osterferien bis 19.4.)
URL:https://tanzenluzern.ch/index.php?option=com_jem&view=event&id=205:kein
 -tanzen-schulferien&Itemid=2115
END:VEVENT
BEGIN:VEVENT
UID:event205@Tanzen international Luzern TiL
DTSTAMP:20260420T082946Z
CATEGORIES:Tanzabend
DESCRIPTION:Kein Tanzen (Osterferien bis 19.4.)\nKategorie: Tanzabend\nICS-
 Link: https://tanzenluzern.ch/index.php?option=com_jem&view=event&id=205:k
 ein-tanzen-schulferien&Itemid=2115\n
DTSTART;VALUE=DATE:20260418
DTEND;VALUE=DATE:20260420
LOCATION:Mariahilf-Turnhalle\,Mariahilfgasse\,6000 Luzern\,Switzerland
SUMMARY:Kein Tanzen (Osterferien bis 19.4.)
URL:https://tanzenluzern.ch/index.php?option=com_jem&view=event&id=205:kein
 -tanzen-schulferien&Itemid=2115
END:VEVENT
BEGIN:VEVENT
UID:event205@Tanzen international Luzern TiL
DTSTAMP:20260420T082946Z
CATEGORIES:Tanzabend
DESCRIPTION:Kein Tanzen (Osterferien bis 19.4.)\nKategorie: Tanzabend\nICS-
 Link: https://tanzenluzern.ch/index.php?option=com_jem&view=event&id=205:k
 ein-tanzen-schulferien&Itemid=2115\n
DTSTART;VALUE=DATE:20260419
DTEND;VALUE=DATE:20260420
LOCATION:Mariahilf-Turnhalle\,Mariahilfgasse\,6000 Luzern\,Switzerland
SUMMARY:Kein Tanzen (Osterferien bis 19.4.)
URL:https://tanzenluzern.ch/index.php?option=com_jem&view=event&id=205:kein
 -tanzen-schulferien&Itemid=2115
END:VEVENT
END:VCALENDAR